BEGIN:VCALENDAR
VERSION:2.0
PRODID:spatie/icalendar-generator
DESCRIPTION:Events from Northern California Dowsers
X-WR-CALDESC:Events from Northern California Dowsers
REFRESH-INTERVAL;VALUE=DURATION:PT1440M
X-PUBLISHED-TTL:PT1440M
BEGIN:VTIMEZONE
TZID:America/Los_Angeles
BEGIN:STANDARD
DTSTART:20131103T020000Z
TZOFFSETFROM:-0700
TZOFFSETTO:-0800
END:STANDARD
BEGIN:DAYLIGHT
DTSTART:20140309T020000Z
TZOFFSETFROM:-0800
TZOFFSETTO:-0700
END:DAYLIGHT
BEGIN:STANDARD
DTSTART:20141102T020000Z
TZOFFSETFROM:-0700
TZOFFSETTO:-0800
END:STANDARD
END:VTIMEZONE
BEGIN:VTIMEZONE
TZID:UTC
BEGIN:STANDARD
DTSTART:20250728T035432Z
TZOFFSETFROM:+0000
TZOFFSETTO:+0000
END:STANDARD
END:VTIMEZONE
BEGIN:VEVENT
UID:11-5
DTSTAMP:20260424T035432Z
SUMMARY:2014 West Coast Dowsing Conference
LOCATION:
ORGANIZER;CN=admin:MAILTO:contact@norcaldowsers.com
DTSTART;TZID=America/Los_Angeles:20140704T000000
DTEND;TZID=America/Los_Angeles:20140708T000000
X-ALT-DESC;FMTTYPE=TEXT/HTML:West Coast Dowsing Conference - Dowse Everythi
 ng! - will be July 4-8\, 2014 at University of California\, Santa Cruz. Ke
 ynote speaker: Alan Handelsman. July 4: Dowsing Schools\; July 5\, 6\, 7: 
 Conference\; July 8: Workshops...Celebrating Mary Marie Satterlee as co-fo
 under of the West Coast Conference.
CATEGORIES:General
URL;VALUE=URI:http://www.norcaldowsers.com/mc-events/2014-west-coast-dowsin
 g-conference/
METHOD:PUBLISH
END:VEVENT
END:VCALENDAR