BEGIN:VCALENDAR
VERSION:2.0
PRODID:spatie/icalendar-generator
DESCRIPTION:Events from Northern California Dowsers
X-WR-CALDESC:Events from Northern California Dowsers
REFRESH-INTERVAL;VALUE=DURATION:PT1440M
X-PUBLISHED-TTL:PT1440M
BEGIN:VTIMEZONE
TZID:America/Los_Angeles
BEGIN:DAYLIGHT
DTSTART:20130310T020000Z
TZOFFSETFROM:-0800
TZOFFSETTO:-0700
END:DAYLIGHT
BEGIN:STANDARD
DTSTART:20131103T020000Z
TZOFFSETFROM:-0700
TZOFFSETTO:-0800
END:STANDARD
BEGIN:DAYLIGHT
DTSTART:20140309T020000Z
TZOFFSETFROM:-0800
TZOFFSETTO:-0700
END:DAYLIGHT
END:VTIMEZONE
BEGIN:VTIMEZONE
TZID:UTC
BEGIN:STANDARD
DTSTART:20250728T050019Z
TZOFFSETFROM:+0000
TZOFFSETTO:+0000
END:STANDARD
END:VTIMEZONE
BEGIN:VEVENT
UID:12-6
DTSTAMP:20260424T050019Z
SUMMARY:Butte IONS Meeting
LOCATION:
ORGANIZER;CN=admin:MAILTO:contact@norcaldowsers.com
DTSTART;TZID=America/Los_Angeles:20131013T140000
DTEND;TZID=America/Los_Angeles:20131013T195400
X-ALT-DESC;FMTTYPE=TEXT/HTML:Institue of Noetic Science meets 2nd Sunday of
  each month from 2 - 4p at the Center for Spiritual Living\, 789 Bille Rd\
 , Paradise. Suggested donation: $5\, but everyone is welcomed regardless o
 f ability to pay.
CATEGORIES:General
URL;VALUE=URI:http://www.norcaldowsers.com/mc-events/butte-ions-meeting/
METHOD:PUBLISH
END:VEVENT
END:VCALENDAR