BEGIN:VCALENDAR
VERSION:2.0
PRODID:spatie/icalendar-generator
DESCRIPTION:Events from Northern California Dowsers
X-WR-CALDESC:Events from Northern California Dowsers
REFRESH-INTERVAL;VALUE=DURATION:PT1440M
X-PUBLISHED-TTL:PT1440M
BEGIN:VTIMEZONE
TZID:America/Los_Angeles
BEGIN:DAYLIGHT
DTSTART:20130310T020000Z
TZOFFSETFROM:-0800
TZOFFSETTO:-0700
END:DAYLIGHT
BEGIN:STANDARD
DTSTART:20131103T020000Z
TZOFFSETFROM:-0700
TZOFFSETTO:-0800
END:STANDARD
BEGIN:DAYLIGHT
DTSTART:20140309T020000Z
TZOFFSETFROM:-0800
TZOFFSETTO:-0700
END:DAYLIGHT
END:VTIMEZONE
BEGIN:VTIMEZONE
TZID:UTC
BEGIN:STANDARD
DTSTART:20250728T051310Z
TZOFFSETFROM:+0000
TZOFFSETTO:+0000
END:STANDARD
END:VTIMEZONE
BEGIN:VEVENT
UID:10-4
DTSTAMP:20260424T051310Z
SUMMARY:Trinity Healing Arts Fair
LOCATION:
ORGANIZER;CN=admin:MAILTO:contact@norcaldowsers.com
DTSTART;TZID=America/Los_Angeles:20131026T000000
DTEND;TZID=America/Los_Angeles:20131026T000000
X-ALT-DESC;FMTTYPE=TEXT/HTML:Nor Cal Dowsers' next vendor fair is the 10th 
 Annual Trinity Healing Arts Fair in Weaverville at the Veterans Memorial H
 all\, October 26th from 10a - 5p.
CATEGORIES:General
URL;VALUE=URI:http://www.norcaldowsers.com/mc-events/trinity-healing-arts-f
 air/
METHOD:PUBLISH
END:VEVENT
END:VCALENDAR