BEGIN:VCALENDAR
VERSION:2.0
PRODID:spatie/icalendar-generator
DESCRIPTION:Events from Northern California Dowsers
X-WR-CALDESC:Events from Northern California Dowsers
REFRESH-INTERVAL;VALUE=DURATION:PT1440M
X-PUBLISHED-TTL:PT1440M
BEGIN:VTIMEZONE
TZID:America/Los_Angeles
BEGIN:DAYLIGHT
DTSTART:20130310T020000Z
TZOFFSETFROM:-0800
TZOFFSETTO:-0700
END:DAYLIGHT
BEGIN:STANDARD
DTSTART:20131103T020000Z
TZOFFSETFROM:-0700
TZOFFSETTO:-0800
END:STANDARD
BEGIN:DAYLIGHT
DTSTART:20140309T020000Z
TZOFFSETFROM:-0800
TZOFFSETTO:-0700
END:DAYLIGHT
END:VTIMEZONE
BEGIN:VTIMEZONE
TZID:UTC
BEGIN:STANDARD
DTSTART:20250728T075938Z
TZOFFSETFROM:+0000
TZOFFSETTO:+0000
END:STANDARD
END:VTIMEZONE
BEGIN:VEVENT
UID:2-3
DTSTAMP:20260424T075938Z
SUMMARY:Shasta Gem &amp; Mineral Society
LOCATION:
ORGANIZER;CN=admin:MAILTO:contact@norcaldowsers.com
DTSTART;TZID=America/Los_Angeles:20131012T000000
DTEND;TZID=America/Los_Angeles:20131013T000000
X-ALT-DESC;FMTTYPE=TEXT/HTML:Shasta Gem &amp; Mineral Society's 60th Anniversar
 y FREE gem\, mineral and jewelry show at Shasta District Fairgrounds\, And
 erson\, CA. Sunday 10a - 5p and Sunday 10a - 4p.
CATEGORIES:General
URL;VALUE=URI:http://www.norcaldowsers.com/mc-events/shasta-gem-mineral-soc
 iety/
METHOD:PUBLISH
END:VEVENT
END:VCALENDAR