BEGIN:VCALENDAR
VERSION:2.0
PRODID:spatie/icalendar-generator
DESCRIPTION:Events from Northern California Dowsers
X-WR-CALDESC:Events from Northern California Dowsers
REFRESH-INTERVAL;VALUE=DURATION:PT1440M
X-PUBLISHED-TTL:PT1440M
BEGIN:VTIMEZONE
TZID:America/Los_Angeles
BEGIN:DAYLIGHT
DTSTART:20140309T020000Z
TZOFFSETFROM:-0800
TZOFFSETTO:-0700
END:DAYLIGHT
BEGIN:STANDARD
DTSTART:20141102T020000Z
TZOFFSETFROM:-0700
TZOFFSETTO:-0800
END:STANDARD
END:VTIMEZONE
BEGIN:VTIMEZONE
TZID:UTC
BEGIN:STANDARD
DTSTART:20250728T000941Z
TZOFFSETFROM:+0000
TZOFFSETTO:+0000
END:STANDARD
END:VTIMEZONE
BEGIN:VEVENT
UID:40-22
DTSTAMP:20260424T000941Z
SUMMARY:Mt Shasta Dowsers Meeting
LOCATION:
ORGANIZER;CN=Rachel O:MAILTO:bturner@frontiernet.net
DTSTART;TZID=America/Los_Angeles:20140817T130000
DTEND;TZID=America/Los_Angeles:20140817T150000
X-ALT-DESC;FMTTYPE=TEXT/HTML:Sun.\, Aug 17th  Mt. Shasta Dowsers' “Dowsi
 ng from the Heart”  1:00 - 3:00pm Mount Shasta Dowsers' welcomes Jozef 
 Pinter from the Princeton Holistic Clinic (N.J.) for its inaugural meeting
 .  Beginners and experienced dowsers are invited to this informal\, at-ho
 me gathering.  Jozef will work directly with workshop participants in dem
 onstrating his Bioenergy Protocol\, a highly efficient&amp;hellip\;
CATEGORIES:General
URL;VALUE=URI:http://www.norcaldowsers.com/mc-events/mt-shasta-dowsers-meet
 ing/
METHOD:PUBLISH
END:VEVENT
END:VCALENDAR